BEGIN:VCALENDAR
VERSION:2.0
PRODID:-//CERN//INDICO//EN
BEGIN:VEVENT
SUMMARY:MEDIA ~TRIPARTITE SUMMIT OF HEADS OF STATE
DTSTART:20260525T210000Z
DTEND:20260529T205900Z
DTSTAMP:20260424T123800Z
UID:indico-event-36@eventsaccreditation.go.ke
CONTACT:ACCREDITATIONKENYA@GMAIL.COM
DESCRIPTION:Theme: "Deepening Intra-African Trade Anchored on Infrastruct
 ure and Industrial Development."  Objective: To expand intra-African tra
 de within the Tripartite Free Trade Area (TFTA) through strengthened infra
 structure and enhanced industrial development. Rationale: Improved infra
 structure and industrial capacity reduce trade costs\, strengthen regional
  value chains\, and enhance economic resilience through deeper market inte
 gration and increased self-reliance.\n\nhttps://eventsaccreditation.go.ke/
 event/36/
LOCATION:KICC
URL:https://eventsaccreditation.go.ke/event/36/
END:VEVENT
END:VCALENDAR
